BEGIN:VCALENDAR
VERSION:2.0
PRODID:-//theatre-enfants - ECPv4.8//NONSGML v1.0//EN
CALSCALE:GREGORIAN
METHOD:PUBLISH
X-WR-CALNAME:theatre-enfants
X-ORIGINAL-URL:http://theatre-enfants.com
X-WR-CALDESC:Évènements pour theatre-enfants
BEGIN:VEVENT
DTSTART;TZID=Europe/Paris:20200114T093000
DTEND;TZID=Europe/Paris:20200116T143000
DTSTAMP:20260422T002533
CREATED:20191021T140151Z
LAST-MODIFIED:20191021T140151Z
UID:22112-1578994200-1579185000@theatre-enfants.com
SUMMARY:UN PETIT COIN DE CIEL
DESCRIPTION:
URL:http://theatre-enfants.com/events/un-petit-coin-de-ciel-7/
LOCATION:Espace 93 – Victor Hugo\, 3\, Place de l’Orangerie\, CLICHY s/s BOIS\, 93390\, France
END:VEVENT
END:VCALENDAR