BEGIN:VCALENDAR
VERSION:2.0
PRODID:-//theatre-enfants - ECPv4.8//NONSGML v1.0//EN
CALSCALE:GREGORIAN
METHOD:PUBLISH
X-WR-CALNAME:theatre-enfants
X-ORIGINAL-URL:http://theatre-enfants.com
X-WR-CALDESC:Évènements pour theatre-enfants
BEGIN:VEVENT
DTSTART;TZID=Europe/Paris:20200124T100000
DTEND;TZID=Europe/Paris:20200125T160000
DTSTAMP:20260422T062024
CREATED:20191021T141531Z
LAST-MODIFIED:20191021T141531Z
UID:22133-1579860000-1579968000@theatre-enfants.com
SUMMARY:PINCE-MOI\, JE RÊVE...
DESCRIPTION:
URL:http://theatre-enfants.com/events/pince-moi-je-reve-11/
LOCATION:MJC/MPT François Rabelais\, 14 Grande Rue\, SAVIGNY/ORGE\, 91600\, France
END:VEVENT
END:VCALENDAR